View In:
ArcGIS JavaScript
ArcGIS Online Map Viewer
ArcGIS Earth
Service Description: NZ_000549_Mdim_NDVI_crf
Name: NZ_000549_Mdim_NDVI_crf
Description:
Single Fused Map Cache: false
Extent:
XMin: 4458300.0
YMin: -5830341.45859997
XMax: 1.899209999999997E7
YMax: 8992238.5414
Spatial Reference: 102100
(3857)
LatestVCSWkid(0)
Initial Extent:
XMin: 4458300.0
YMin: -5830341.45859997
XMax: 1.899209999999997E7
YMax: 8992238.5414
Spatial Reference: 102100
(3857)
LatestVCSWkid(0)
Full Extent:
XMin: 4458300.0
YMin: -5830341.45859997
XMax: 1.899209999999997E7
YMax: 8992238.5414
Spatial Reference: 102100
(3857)
LatestVCSWkid(0)
Time Info:
Start Time Field: StdTime
End Time Field: StdTime
Time Extent:
[1989/01/01 00:00:00 UTC, 2021/01/01 00:00:00 UTC]
Time Reference:
N/A
Pixel Size X: 29.99999999999994
Pixel Size Y: 29.99999999999994
Band Count: 1
Pixel Type: S8
RasterFunction Infos: {"rasterFunctionInfos": [{
"name": "None",
"description": "",
"help": ""
}]}
Mensuration Capabilities: Basic
Inspection Capabilities:
Has Histograms: true
Has Colormap: false
Has Multi Dimensions : true
Rendering Rule:
Min Scale: 0
Max Scale: 0
Copyright Text:
Service Data Type: esriImageServiceDataTypeGeneric
Min Values: 1
Max Values: 5
Mean Values: 3.8206766440255886
Standard Deviation Values: 0.8944825452027437
Object ID Field:
Fields:
None
Default Mosaic Method: Center
Allowed Mosaic Methods:
SortField:
SortValue: null
Mosaic Operator: First
Default Compression Quality: 75
Default Resampling Method: Bilinear
Max Record Count: null
Max Image Height: 4100
Max Image Width: 15000
Max Download Image Count: null
Max Mosaic Image Count: null
Allow Raster Function: true
Allow Copy: true
Allow Analysis: true
Allow Compute TiePoints: false
Supports Statistics: false
Supports Advanced Queries: false
Use StandardizedQueries: true
Raster Type Infos:
Name: Raster Dataset
Description: Supports all ArcGIS Raster Datasets
Help:
Has Raster Attribute Table: true
Edit Fields Info: null
Ownership Based AccessControl For Rasters: null
Child Resources:
Info
Raster Attribute Table
Histograms
Statistics
Key Properties
Legend
Raster Function Infos
Multidimensional Info
Slices
Supported Operations:
Export Image
Identify
Measure
Compute Histograms
Compute Statistics Histograms
Get Samples
Compute Class Statistics
Query Boundary
Compute Pixel Location
Compute Angles
Validate
Project